BEGIN:VCALENDAR
VERSION:2.0
PRODID:-//Croce Rossa Italiana Comitato di Riccione - ECPv6.15.17.1//NONSGML v1.0//EN
CALSCALE:GREGORIAN
METHOD:PUBLISH
X-WR-CALNAME:Croce Rossa Italiana Comitato di Riccione
X-ORIGINAL-URL:https://www.cririccione.it
X-WR-CALDESC:Eventi per Croce Rossa Italiana Comitato di Riccione
REFRESH-INTERVAL;VALUE=DURATION:PT1H
X-Robots-Tag:noindex
X-PUBLISHED-TTL:PT1H
BEGIN:VTIMEZONE
TZID:Europe/Rome
BEGIN:DAYLIGHT
TZOFFSETFROM:+0100
TZOFFSETTO:+0200
TZNAME:CEST
DTSTART:20230326T010000
END:DAYLIGHT
BEGIN:STANDARD
TZOFFSETFROM:+0200
TZOFFSETTO:+0100
TZNAME:CET
DTSTART:20231029T010000
END:STANDARD
BEGIN:DAYLIGHT
TZOFFSETFROM:+0100
TZOFFSETTO:+0200
TZNAME:CEST
DTSTART:20240331T010000
END:DAYLIGHT
BEGIN:STANDARD
TZOFFSETFROM:+0200
TZOFFSETTO:+0100
TZNAME:CET
DTSTART:20241027T010000
END:STANDARD
BEGIN:DAYLIGHT
TZOFFSETFROM:+0100
TZOFFSETTO:+0200
TZNAME:CEST
DTSTART:20250330T010000
END:DAYLIGHT
BEGIN:STANDARD
TZOFFSETFROM:+0200
TZOFFSETTO:+0100
TZNAME:CET
DTSTART:20251026T010000
END:STANDARD
BEGIN:DAYLIGHT
TZOFFSETFROM:+0100
TZOFFSETTO:+0200
TZNAME:CEST
DTSTART:20260329T010000
END:DAYLIGHT
BEGIN:STANDARD
TZOFFSETFROM:+0200
TZOFFSETTO:+0100
TZNAME:CET
DTSTART:20261025T010000
END:STANDARD
END:VTIMEZONE
BEGIN:VEVENT
DTSTART;TZID=Europe/Rome:20251123T150000
DTEND;TZID=Europe/Rome:20251123T180000
DTSTAMP:20260422T103623
CREATED:20251117T093133Z
LAST-MODIFIED:20251117T093707Z
UID:3865-1763910000-1763920800@www.cririccione.it
SUMMARY:Prevenzione in Movimento - Giornata dedicata alla Sicurezza Stradale
DESCRIPTION:La Croce Rossa Italiana – Comitato di Riccione organizza domenica 23 novembre\, dalle ore 15:00 alle 18:00\, un pomeriggio interamente dedicato alla sicurezza stradale presso il Piazzale Ceccarini a Riccione. \nL’iniziativa “Prevenzione in Movimento” nasce con l’obiettivo di sensibilizzare la cittadinanza\, in particolare i giovani e le famiglie\, sui comportamenti corretti da adottare alla guida e sui rischi legati alla distrazione\, alla velocità e all’alterazione dei sensi. \nDurante l’evento sarà possibile sperimentare in prima persona: \n\nSimulatore di incidente\, per comprendere l’importanza di cinture di sicurezza e distanza di frenata\nPercorsi con occhiali alco-vista\, che riproducono gli effetti dell’alcol su equilibrio e percezione\nQuiz interattivi sulla sicurezza stradale\nSpiegazioni e dimostrazioni sulle buone pratiche nella guida\, a cura dei volontari CRI\n\nL’attività è completamente gratuita e aperta a tutti. \n“Prevenzione in Movimento” rappresenta un’occasione concreta per promuovere una cultura della prevenzione\, responsabilizzare i cittadini e ridurre i rischi sulle nostre strade\, attraverso un approccio educativo\, pratico e coinvolgente. \n👉 Vi aspettiamo domenica 23 novembre in Piazzale Ceccarini per un pomeriggio di consapevolezza e sicurezza.
URL:https://www.cririccione.it/evento/prevenzione-in-movimento-giornata-dedicata-alla-sicurezza-stradale/
LOCATION:Piazzale Ceccarini\, P.le Ceccarini\, Riccione\, Rimini\, 47838\, Italy
CATEGORIES:Eventi Gratuiti
ATTACH;FMTTYPE=image/png:https://www.cririccione.it/wp-content/uploads/2025/11/Prevenzione-in-Movimento.png
END:VEVENT
BEGIN:VEVENT
DTSTART;TZID=Europe/Rome:20251115T153000
DTEND;TZID=Europe/Rome:20251115T190000
DTSTAMP:20260422T103623
CREATED:20251110T154510Z
LAST-MODIFIED:20251112T095857Z
UID:3856-1763220600-1763233200@www.cririccione.it
SUMMARY:In gioco con la CRI!
DESCRIPTION:Sabato 15 novembre\, dalle 15:30 alle 19:00\, la Croce Rossa Italiana – Comitato di Riccione invita grandi e piccoli a partecipare a un pomeriggio di divertimento e scoperta. \nDurante l’evento\, i bambini potranno vivere un’esperienza unica grazie a: \n\n\nL’Ospedale dei Pupazzi\, per imparare giocando come prendersi cura della salute \n\n\nLaboratori creativi e truccabimbi\, per liberare fantasia e colori \n\n\nZucchero filato e pop corn\, per rendere la giornata ancora più dolce \n\n\n“In gioco con la CRI” è un’occasione per trascorrere momenti di allegria in famiglia e conoscere da vicino l’impegno quotidiano dei volontari della Croce Rossa Italiana. \n👉 Ti aspettiamo per giocare\, imparare e crescere insieme nella solidarietà! ❤️ \n📍 Piazzale Ceccarini – Riccione🗓 Sabato 15 novembre 2025⏰ Ore 15:30 – 19:00
URL:https://www.cririccione.it/evento/in-gioco-con-la-cri/
LOCATION:Piazzale Ceccarini\, P.le Ceccarini\, Riccione\, Rimini\, 47838\, Italy
CATEGORIES:Eventi Gratuiti
ATTACH;FMTTYPE=image/png:https://www.cririccione.it/wp-content/uploads/2025/11/Giocando-con-la-Cri-2025.png
END:VEVENT
BEGIN:VEVENT
DTSTART;TZID=Europe/Rome:20250912T140000
DTEND;TZID=Europe/Rome:20250914T200000
DTSTAMP:20260422T103623
CREATED:20250912T063717Z
LAST-MODIFIED:20250912T070637Z
UID:3804-1757685600-1757880000@www.cririccione.it
SUMMARY:Prevenzione in Movimento – CRI Riccione a Ingar Motor Fest
DESCRIPTION:Dal 12 al 14 settembre\, in occasione del Motor Fest presso la zona del Luna Park di Riccione\, la Croce Rossa Italiana – Comitato di Riccione sarà presente con numerose attività dedicate alla salute\, alla sicurezza e alla prevenzione. \nIl programma: \n\nVenerdì pomeriggio (14:00–18:00): Mototerapia\nSabato e domenica (15:00–18:00): Dimostrazioni e prove pratiche di manovre salvavita\nPresidio sanitario con ambulanza sul posto\nGazebo informativi e raccolta fondi\nAttività di sensibilizzazione a cura dei Giovani CRI sui rischi legati al consumo di alcol e sostanze\n\nUn’occasione per imparare\, divertirsi e fare prevenzione insieme!
URL:https://www.cririccione.it/evento/prevenzione-in-movimento-cri-riccione-al-motor-fest/
LOCATION:Zona Luna Park Riccione\, Via Vespucci\, Riccione\, 47838\, Italy
CATEGORIES:Eventi Gratuiti
ATTACH;FMTTYPE=image/png:https://www.cririccione.it/wp-content/uploads/2025/09/Prevenzione-in-Movimento-–-CRI-Riccione-al-Motor-Fest.png
END:VEVENT
BEGIN:VEVENT
DTSTART;TZID=Europe/Rome:20250330T150000
DTEND;TZID=Europe/Rome:20250330T180000
DTSTAMP:20260422T103623
CREATED:20250325T112502Z
LAST-MODIFIED:20250326T112438Z
UID:3538-1743346800-1743357600@www.cririccione.it
SUMMARY:Evento Sicurezza Stradale: "Guida Responsabile\, Scegli la Vita!"
DESCRIPTION:Data: 30 marzo 2025\nOrario: 15:00 – 18:00\nLuogo: Piazzale Ceccarini\, Riccione \nDescrizione: \nPartecipa al nostro evento annuale di sensibilizzazione alla sicurezza stradale\, organizzato in collaborazione con la Polizia Locale. In un pomeriggio dedicato alla consapevolezza e alla prevenzione\, avrai l’opportunità di sperimentare attraverso simulazioni interattive le conseguenze della guida sotto l’influenza di alcol e sostanze stupefacenti. \nPartecipa e impara a: \n\nRiconoscere gli effetti dell’alcol e delle sostanze stupefacenti sulla guida.\nMigliorare le tue abilità di guida attraverso simulazioni interattive.\nCapire l’importanza delle scelte responsabili al volante.\n\nAttività in programma: \n\nSimulazioni di guida con occhiali simulatori\nWorkshop interattivi sulla sicurezza stradale\nSessione Q&A con esperti e agenti di polizia\n\nObiettivi: \nL’evento mira a educare i cittadini\, in particolare i giovani conducenti\, sull’importanza di scelte responsabili al volante. Con il supporto di tecnologie simulate e l’esperienza diretta\, aspiriamo a ridurre gli incidenti stradali causati da guida imprudente. \nUnisciti a noi per fare la differenza nella tua comunità. La tua presenza è fondamentale per aiutarci a promuovere una guida più sicura e responsabile!
URL:https://www.cririccione.it/evento/evento-sicurezza-stradale-guida-responsabile-scegli-la-vita/
LOCATION:Viale Ceccarini\, Viale Ceccarini\, Riccione\, RN\, 47838\, Italy
CATEGORIES:Eventi Gratuiti
ATTACH;FMTTYPE=image/png:https://www.cririccione.it/wp-content/uploads/2025/03/Raccolta-Alimentare-1-2.png
END:VEVENT
BEGIN:VEVENT
DTSTART;TZID=Europe/Rome:20241019T100000
DTEND;TZID=Europe/Rome:20241019T180000
DTSTAMP:20260422T103623
CREATED:20241018T080900Z
LAST-MODIFIED:20241018T082557Z
UID:2691-1729332000-1729360800@www.cririccione.it
SUMMARY:Giornata Mondiale della Rianimazione Cardiopolmonare
DESCRIPTION:Unisciti a Noi nella Giornata Mondiale della Rianimazione Cardiopolmonare\nCelebrare la vita salvando vite! Partecipa alla Giornata Mondiale della Rianimazione Cardiopolmonare organizzata dalla Croce Rossa di Riccione. Questo evento speciale è dedicato a insegnare tecniche vitali di primo soccorso e rianimazione cardiopolmonare (CPR) alla comunità. Unisciti a noi per imparare come le tue azioni possono fare la differenza in momenti critici.\nDettagli dell’Evento: \n\nData: 19 Ottobre\nOrario: Sessioni dalle 10:00 alle 12:00 e dalle 14:00 alle 18:00\nLuogo: Piazzale Ceccarini\, 11\, Riccione\n\nIstruttori qualificati della Croce Rossa forniranno formazione pratica con l’uso di manichini\, dimostrando le tecniche corrette di CPR. L’evento è aperto a tutti: famiglie\, studenti\, professionisti e anziani – chiunque interessato a imparare come agire efficacemente in caso di emergenza.\n“160 milioni di battiti all’unisono” non è solo un motto; è un obiettivo collettivo per creare una comunità capace e preparata a salvare vite. Non perdere l’opportunità di essere parte di questa iniziativa vitale.\nTi aspettiamo! L’evento è gratuito e aperto a tutti. Preparati a fare la differenza nella tua comunità e oltre.
URL:https://www.cririccione.it/evento/giornata-mondiale-della-rianimazione-cardiopolmonare/
LOCATION:Palazzo Del Turismo\, Piazzale ceccarini\, 11\, Riccione\, Rimini\, 47838\, Italy
CATEGORIES:Eventi Gratuiti
ATTACH;FMTTYPE=image/png:https://www.cririccione.it/wp-content/uploads/2024/10/Copia-di-TOOLKIT-WRAHD_SM-Card.png
END:VEVENT
BEGIN:VEVENT
DTSTART;TZID=Europe/Rome:20240923T203000
DTEND;TZID=Europe/Rome:20240923T220000
DTSTAMP:20260422T103623
CREATED:20241018T081707Z
LAST-MODIFIED:20241018T082746Z
UID:2693-1727123400-1727128800@www.cririccione.it
SUMMARY:Presentazione Corso Base di Volontariato Croce Rossa
DESCRIPTION:📢 Sei di Riccione o vivi a Riccione? Unisciti a noi per una serata speciale! 🚑 \n🧑‍🏫👥 Ti presentiamo il Nuovo Corso di Formazione per Volontari della Croce Rossa Italiana. Una grande opportunità per fare la differenza nella tua comunità! \n🗓️ Data: 23 settembre\n⏰ Ora: 20:30\n📍 Luogo: Croce Rossa Italiana – Comitato di Riccione\, Corso F.lli Cervi 226 \nPartecipa a questo incontro introduttivo dove ti illustreremo il percorso di formazione\, le attività in cui potrai essere coinvolto\, e come il tuo impegno può avere un impatto significativo. La serata sarà l’occasione ideale per conoscere i nostri volontari e scoprire come anche tu puoi diventare una parte attiva del nostro team. \n✅ Iscriviti subito al corso: Registrati qui \nPer maggiori informazioni:\n☎️ Tel: 3932509089 / 3285796341\n📧 Email: formazione@cririccione.it \nQuesta è la tua chance per imparare\, crescere e contribuire. Non perdere questa opportunità esclusiva per i cittadini di Riccione!
URL:https://www.cririccione.it/evento/presentazione-corso-base-2024/
LOCATION:Sede CRI Riccione\, Via Corso Fratelli Cervi\, 226\, Riccione\, RN\, 47838\, Italy
CATEGORIES:Eventi Gratuiti,Volontariato
ATTACH;FMTTYPE=image/jpeg:https://www.cririccione.it/wp-content/uploads/2024/10/CONTattaci-Post-Instagram.jpg
END:VEVENT
END:VCALENDAR