BEGIN:VCALENDAR
VERSION:2.0
PRODID:-//Croce Rossa Italiana Comitato di Riccione - ECPv6.15.17.1//NONSGML v1.0//EN
CALSCALE:GREGORIAN
METHOD:PUBLISH
X-WR-CALNAME:Croce Rossa Italiana Comitato di Riccione
X-ORIGINAL-URL:https://www.cririccione.it
X-WR-CALDESC:Eventi per Croce Rossa Italiana Comitato di Riccione
REFRESH-INTERVAL;VALUE=DURATION:PT1H
X-Robots-Tag:noindex
X-PUBLISHED-TTL:PT1H
BEGIN:VTIMEZONE
TZID:Europe/Rome
BEGIN:DAYLIGHT
TZOFFSETFROM:+0100
TZOFFSETTO:+0200
TZNAME:CEST
DTSTART:20240331T010000
END:DAYLIGHT
BEGIN:STANDARD
TZOFFSETFROM:+0200
TZOFFSETTO:+0100
TZNAME:CET
DTSTART:20241027T010000
END:STANDARD
BEGIN:DAYLIGHT
TZOFFSETFROM:+0100
TZOFFSETTO:+0200
TZNAME:CEST
DTSTART:20250330T010000
END:DAYLIGHT
BEGIN:STANDARD
TZOFFSETFROM:+0200
TZOFFSETTO:+0100
TZNAME:CET
DTSTART:20251026T010000
END:STANDARD
BEGIN:DAYLIGHT
TZOFFSETFROM:+0100
TZOFFSETTO:+0200
TZNAME:CEST
DTSTART:20260329T010000
END:DAYLIGHT
BEGIN:STANDARD
TZOFFSETFROM:+0200
TZOFFSETTO:+0100
TZNAME:CET
DTSTART:20261025T010000
END:STANDARD
END:VTIMEZONE
BEGIN:VEVENT
DTSTART;TZID=Europe/Rome:20250621T143000
DTEND;TZID=Europe/Rome:20250621T190000
DTSTAMP:20260422T103950
CREATED:20250604T125830Z
LAST-MODIFIED:20250608T063018Z
UID:3601-1750516200-1750532400@www.cririccione.it
SUMMARY:Mototerapia a Riccione: Un Evento da Non Perdere!
DESCRIPTION:🌊🛥️ Mototerapia a Riccione: Vivi l’Adrenalina e la Solidarietà! 🌊🛥️ \n📅 Data: Sabato 21 Giugno⏰ Orario: dalle ore 14:30📍 Luogo: Porto di Riccione\, Piazzetta Dante Tosi\, 2/A \n Unisciti a noi per un pomeriggio di emozioni\, sorrisi e inclusione! La Croce Rossa Italiana – Comitato di Riccione\, in collaborazione con 3zero3 NoLimits e con la preziosa partecipazione della Lega Navale Italiana – Sezione di Riccione\, ti invita a vivere l’adrenalina delle moto d’acqua in un contesto di solidarietà e divertimento.\n\n Grazie alla Lega Navale Italiana\, che ci offrirà un gustoso buffet per tutti i partecipanti\, avrai modo di vivere un’esperienza indimenticabile\, con la possibilità di conoscere da vicino i nostri volontari e scoprire il lato più bello della mototerapia.\n\n Per informazioni e prenotazioni: 339 5742382 / 320 3173979\n Non mancare! Ti aspettiamo per condividere un pomeriggio di sport\, mare e inclusione sociale.
URL:https://www.cririccione.it/evento/mototerapia-a-riccione-un-evento-da-non-perdere-2/
LOCATION:Porto di Riccione\, Darsena di Levante\, Riccione\, RN\, 47838\, Italy
CATEGORIES:Inclusione Sociale
ATTACH;FMTTYPE=image/png:https://www.cririccione.it/wp-content/uploads/2025/06/Cover-Articolo-Blog-2.png
END:VEVENT
END:VCALENDAR